BEGIN:VCALENDAR
VERSION:2.0
PRODID:-// - ECPv6.15.20//NONSGML v1.0//EN
CALSCALE:GREGORIAN
METHOD:PUBLISH
X-ORIGINAL-URL:https://www.swv-zavelstein.de
X-WR-CALDESC:Veranstaltungen für 
REFRESH-INTERVAL;VALUE=DURATION:PT1H
X-Robots-Tag:noindex
X-PUBLISHED-TTL:PT1H
BEGIN:VTIMEZONE
TZID:Europe/Berlin
BEGIN:DAYLIGHT
TZOFFSETFROM:+0100
TZOFFSETTO:+0200
TZNAME:CEST
DTSTART:20240331T010000
END:DAYLIGHT
BEGIN:STANDARD
TZOFFSETFROM:+0200
TZOFFSETTO:+0100
TZNAME:CET
DTSTART:20241027T010000
END:STANDARD
BEGIN:DAYLIGHT
TZOFFSETFROM:+0100
TZOFFSETTO:+0200
TZNAME:CEST
DTSTART:20250330T010000
END:DAYLIGHT
BEGIN:STANDARD
TZOFFSETFROM:+0200
TZOFFSETTO:+0100
TZNAME:CET
DTSTART:20251026T010000
END:STANDARD
BEGIN:DAYLIGHT
TZOFFSETFROM:+0100
TZOFFSETTO:+0200
TZNAME:CEST
DTSTART:20260329T010000
END:DAYLIGHT
BEGIN:STANDARD
TZOFFSETFROM:+0200
TZOFFSETTO:+0100
TZNAME:CET
DTSTART:20261025T010000
END:STANDARD
END:VTIMEZONE
BEGIN:VEVENT
DTSTART;TZID=Europe/Berlin:20250907T090000
DTEND;TZID=Europe/Berlin:20250907T183000
DTSTAMP:20260420T102219
CREATED:20250823T111124Z
LAST-MODIFIED:20250823T111124Z
UID:3107-1757235600-1757269800@www.swv-zavelstein.de
SUMMARY:Genießerpfad - Klösterle- Schleife mit Burgbachwasserfall
DESCRIPTION:Liebe Vereinsmitglieder\, \nfür Sonntag 7. September laden wir herzlich zu einer Tagestour auf dem Genießerpfad ein. \nWir starten am Parkplatz “Vor Burgbach“. Von dort aus führt uns die 8km lange Wanderung rund um das Wolftal in Bad Rippoldsau. Auf naturbelassen Wegen und Pfaden erreichen wir den Kurpark in Bad Rippoldsau\,hier ist die Mittagsrast geplant. Nach einem kurzen\, knackigen Anstieg wandern wir auf der Höhe zum Burgbachfelsen. \nDort wird man mit einer wunderschönen Aussicht belohnt. Über Serpentinen gelangen wir zum Burgbachwasserfall\, einem der höchsten\,freifallenden und natürlichen Wasserfälle im Schwarzwald. Zurück geht`s auf dem Forstweg zum Ausgangspunkt. \nWanderführer: Marlies & Oliver Hahn\nTreffpunkt: 9.00Uhr Parkplatz beim Sportplatz zur Bildung von Fahrgemeinschaften\nWanderstrecke: ca.8 km mit ca. 400 Hm Auf-und Abstieg\nGehzeit: ca. 4Std.\nMitbringen: dem Wetter angepasste Kleider\, Getränke und Rucksackvesper\, Wanderstöcke werden empfohlen\nEine Einkehr ist nach der Wanderung vorgesehen\nRückkehr: ca.18.30 Uhr  \nGäste sind wie immer herzlich willkommen! \nDie Teilnahme erfolgt auf eigene Gefahr. \nSWV Zavelstein
URL:https://www.swv-zavelstein.de/kalender/geniesserpfad-kloesterle-schleife-mit-burgbachwasserfall/
LOCATION:Parkplatz am Sportheim Zavelstein
END:VEVENT
BEGIN:VEVENT
DTSTART;TZID=Europe/Berlin:20250909T084500
DTEND;TZID=Europe/Berlin:20250909T193000
DTSTAMP:20260420T102219
CREATED:20250310T083948Z
LAST-MODIFIED:20250827T173150Z
UID:2912-1757407500-1757446200@www.swv-zavelstein.de
SUMMARY:Frauen unter sich – Ausflug zur Kürbisausstellung im Blühenden Barock
DESCRIPTION:Die weltgrößte Kürbisausstellung steht dieses Jahr unter dem Motto „Figuren aus der Filmwelt“ z.B. mit bekannten Persönlichkeiten und Figuren aus Hollywod.\nWir fahren mit dem Zug bis zum Bahnhof in Ludwigsburg. Von dort aus gehen wir durch die Altstadt zum Residenzschloss.\nEs besteht auch die Möglichkeit mit dem Bus zum Residenzschloss zu fahren.\nVerpflegungsangebote gibt es ausreichend auf dem Schlossgelände – vor allem viele leckere Speisen rund um den Kürbis bis hin zu Kürbis-Secco! \nTreffpunkt: Dienstag\, 9. September 2025 um 8.45 Uhr Bahnhof Bad Teinach/Neubulach\nAbfahrt: 9.16 Uhr\nRückkehr: ca. 19.30 Uhr \nFahrpreis und Eintritt für\nMitglieder des Schwarzwaldvereins                              15\,00 Euro\nNichtmitglieder                                                              23\,00 Euro \nFür Personen mit Deutschland Ticket beträgt der Eintritt\nfür Mitglieder des Schwarzwaldvereins                          5\,00 Euro\nfür Nichtmitglieder                                                        11\,00 Euro \nEine Anmeldung bis zum 4. September ist erforderlich bei: Birgit Pfrommer Tel. 07053/8103 oder Georgia Kolb Tel. 07053/3931995 \nDie Teilnahme erfolgt auf eigene Gefahr! \nSchwarzwaldverein Zavelstein
URL:https://www.swv-zavelstein.de/kalender/frauen-unter-sich-ausflug-zur-kuerbisausstellung-im-bluehenden-barock/
LOCATION:Bahnhof Station Teinach-Neubulach
END:VEVENT
BEGIN:VEVENT
DTSTART;TZID=Europe/Berlin:20250917T133000
DTEND;TZID=Europe/Berlin:20250917T170000
DTSTAMP:20260420T102219
CREATED:20250907T084539Z
LAST-MODIFIED:20250907T084539Z
UID:3112-1758115800-1758128400@www.swv-zavelstein.de
SUMMARY:Seniorenwanderung
DESCRIPTION:Liebe Schwarzwaldverein-Senioren\, \nam  Mittwoch\, den 17.09.2025 treffen wir uns um 13.30 Uhr am Parkplatz beim Sportplatz und fahren in Fahrgemeinschaften zum nach Calw-Stammheim zum Netto Parkplatz. Von dort aus starten wir zu einer ca. 5 km Wanderung\, die von Brigitte und Heinz Finkbeiner geführt wird. \nWer nicht mitlaufen kann\, darf es sich im Cafe der alten Feuerwehrgemütlich machen. \nEine Schlusseinkehr ist vorgesehen. \nWir freuen uns über Euer Dabeisein. \nGäste sind herzlich willkommen. \nDie Teilnahme erfolgt auf eigene Gefahr. \nDas Team freut sich auf Euch \n  \n 
URL:https://www.swv-zavelstein.de/kalender/seniorenwanderung-7/
LOCATION:Parkplatz am Sportheim Zavelstein
END:VEVENT
BEGIN:VEVENT
DTSTART;TZID=Europe/Berlin:20250919T183000
DTEND;TZID=Europe/Berlin:20250919T200000
DTSTAMP:20260420T102219
CREATED:20250310T084036Z
LAST-MODIFIED:20250910T075853Z
UID:2914-1758306600-1758312000@www.swv-zavelstein.de
SUMMARY:After-Work-Wandern
DESCRIPTION:Für alle\, die zum Feierabend noch eine Runde in Gesellschaft laufen möchten\, ist dieses Wanderangebot gedacht. \nAuch Nichtmitglieder\, Gäste und alle\, die unseren SWV kennenlernen möchten oder an den Wochenenden keine Zeit zum Wandern haben\, sind herzlich dazu eingeladen.\nUnter der erfahrenen Führung durch ein Mitglied des SWV Zavelstein wird die nähere Umgebung erkundet und Besonderheiten werden erklärt. \nMan könnte auch sagen: walk and talk – jedenfalls eine gesellige Runde.\nDie Tour ist für jeden (w/m)\, der ca.1\,5 Stunden in normalem Tempo laufen kann\, geeignet.\nWer mag\, kann ein Getränk für unterwegs mitnehmen. \nWanderführung: Wolfgang Krieg\nTreffpunkt: 18.30 Uhr\, Parkplatz an der Fronwaldstraße beim Sportplatz in Zavelstein \nDer Wanderführer freut sich über eine rege Teilnahme!\nKommt einfach mit\, tut etwas Gutes für eure Gesundheit und habt Spaß! \nSWV Zavelstein
URL:https://www.swv-zavelstein.de/kalender/after-work-wandern-3/
LOCATION:Parkplatz  Frohnwaldstraße/Sportplatz
END:VEVENT
BEGIN:VEVENT
DTSTART;TZID=Europe/Berlin:20250926T150000
DTEND;TZID=Europe/Berlin:20250926T170000
DTSTAMP:20260420T102219
CREATED:20250310T084303Z
LAST-MODIFIED:20250924T085532Z
UID:2916-1758898800-1758906000@www.swv-zavelstein.de
SUMMARY:Obst ernten und Saft pressen
DESCRIPTION:Liebe Familien und Mitglieder im Schwarzwaldverein Zavelstein\, \nauf der vom Verein gepachteten Wiese\, die vor 10 Jahren mit großen Obstbäumen von tatkräftigen Helfern aus dem Verein bepflanzt wurde\, steht die Ernte bevor. \nWie schon im letzten Jahr wollen wir am Freitag\, 26.09.2025\, ab 15 Uhr das Obst gemeinsam ernten\, aufsammeln und zur mobilen Saftpresse der Familie Kalmbach nach Rötenbach fahren. \nDort wird das Obst am Samstag\, voraussichtlich nachmittags\, zu Saft verarbeitet und wieder in 5 Liter Packungen heiß abgefüllt. Das ist immer sehr interessant und lohnt sich\, insbesondere für die Kinder zu schauen und ggf. mit den Eltern mitzuhelfen. \nOrganisation: Wolfgang und Peter Krieg \nTreffpunkt: Obstwiese / Spinnerin-Kreuz-Weg \nTermin: Freitag\, 26.09.2025\, 15:00 Uhr \nSaftpressen: Samstag\, 27.09.2025\,  – Zeitpunkt wird noch bekannt gegeben. \nMitzubringen: Feste Schuhe oder Gummistiefel und Arbeitshandschuhe sind sehr zu empfehlen. Leere Kartons vom Apfelsaft aus dem letzten Jahr bitte mitbringen. \nGroße und besonders unsere kleinen fleißigen Helfer sind herzlich willkommen. \nEuer Schwarzwaldverein \n 
URL:https://www.swv-zavelstein.de/kalender/obst-ernten-und-saft-pressen/
LOCATION:Obstwiese / Spinnerin-Kreuz-Weg
END:VEVENT
END:VCALENDAR