BEGIN:VCALENDAR
VERSION:2.0
PRODID:-// - ECPv6.15.20//NONSGML v1.0//EN
CALSCALE:GREGORIAN
METHOD:PUBLISH
X-ORIGINAL-URL:https://www.swv-zavelstein.de
X-WR-CALDESC:Veranstaltungen für 
REFRESH-INTERVAL;VALUE=DURATION:PT1H
X-Robots-Tag:noindex
X-PUBLISHED-TTL:PT1H
BEGIN:VTIMEZONE
TZID:Europe/Berlin
BEGIN:DAYLIGHT
TZOFFSETFROM:+0100
TZOFFSETTO:+0200
TZNAME:CEST
DTSTART:20240331T010000
END:DAYLIGHT
BEGIN:STANDARD
TZOFFSETFROM:+0200
TZOFFSETTO:+0100
TZNAME:CET
DTSTART:20241027T010000
END:STANDARD
BEGIN:DAYLIGHT
TZOFFSETFROM:+0100
TZOFFSETTO:+0200
TZNAME:CEST
DTSTART:20250330T010000
END:DAYLIGHT
BEGIN:STANDARD
TZOFFSETFROM:+0200
TZOFFSETTO:+0100
TZNAME:CET
DTSTART:20251026T010000
END:STANDARD
BEGIN:DAYLIGHT
TZOFFSETFROM:+0100
TZOFFSETTO:+0200
TZNAME:CEST
DTSTART:20260329T010000
END:DAYLIGHT
BEGIN:STANDARD
TZOFFSETFROM:+0200
TZOFFSETTO:+0100
TZNAME:CET
DTSTART:20261025T010000
END:STANDARD
END:VTIMEZONE
BEGIN:VEVENT
DTSTART;VALUE=DATE:20251206
DTEND;VALUE=DATE:20251208
DTSTAMP:20260421T135748
CREATED:20250310T084948Z
LAST-MODIFIED:20250310T084948Z
UID:2928-1764979200-1765151999@www.swv-zavelstein.de
SUMMARY:Burgweihnacht
DESCRIPTION:Details zur Veranstaltung werden hier i.d.R. 14 Tage vor dem Termin veröffentlicht.
URL:https://www.swv-zavelstein.de/kalender/burgweihnacht-2/
END:VEVENT
BEGIN:VEVENT
DTSTART;TZID=Europe/Berlin:20251210T144500
DTEND;TZID=Europe/Berlin:20251210T180000
DTSTAMP:20260421T135748
CREATED:20251129T112111Z
LAST-MODIFIED:20251129T112111Z
UID:3194-1765377900-1765389600@www.swv-zavelstein.de
SUMMARY:Seniorenwanderung
DESCRIPTION:Liebe Schwarzwaldverein Senioren \nunser Wanderjahr 2025 mit schönen Erlebnissen und Wanderungen wollen wir am Mittwoch\, den 10. Dezember 2025 einem gemütlichen Zusammensein in der Stationsgaststätte auf dem Wimberg mit Kaffee\, Kuchen und Essen abschließen. Wir sind für Beiträge jeglicher Art zur Unterhaltung dankbar.\nWir treffen uns um 14.45 Uhr auf dem Parkplatz beim Sportplatz Zavelstein und fahren zum Wimberg in die Stationsgaststätte.\nWir freuen uns über viele Teilnehmer und Gäste auf eine schöne Abschlussfeier! \nDie Teilnahme erfolgt auf eigene Gefahr \nAbfahrt in Zavelstein: 14.45 Uhr Parkplatz am Sportplatz \nBis dahin liebe Grüße von Adelheid\, Birgit und Waltraud
URL:https://www.swv-zavelstein.de/kalender/seniorenwanderung-4/
LOCATION:Parkplatz am Sportplatz Zavelstein\, Fronwaldstraße\, Zavelstein
END:VEVENT
BEGIN:VEVENT
DTSTART;TZID=Europe/Berlin:20251214T133000
DTEND;TZID=Europe/Berlin:20251214T170000
DTSTAMP:20260421T135748
CREATED:20250310T085043Z
LAST-MODIFIED:20251205T100609Z
UID:2930-1765719000-1765731600@www.swv-zavelstein.de
SUMMARY:Adventswanderung
DESCRIPTION:Liebe Wanderfreunde\, \nam Sonntag\, den 14. Dezember 2025 findet unsere Adventswanderung statt. \nWir treffen uns am Parkplatz beim Sportplatz in Zavelstein und wandern von dort durch den Wald nach Lützenhardt zu Walters Nostalgiescheune. Unterwegs halten wir Ausschau ob wir Spuren vom Weihnachtsmann entdecken. Vielleicht gibt es ja eine Überraschung\, die auch die Kinder erfreuen wird. \nIn der Nostalgiescheune werden wir mit Kaffee und Kuchen empfangen und beim Rundgang können wir nachempfinden wie die Generationen vor uns gelebt und gearbeitet haben. Glühwein\, Punsch und Kaltgetränke sind auch vorhanden. \nWir treffen uns um 13.30 Uhr am Parkplatz beim Sportplatz. Die Wanderstrecke ist ca. 3 km lang. \nWer an der Wanderung nicht teilnehmen kann\, ist ab 15.00 Uhr in der \nNostalgiescheune willkommen. \nDa die Scheune nicht beheizt werden kann\, ist warme Kleidung erforderlich. \nGäste sind herzlich Willkommen. Wir freuen uns über groß und klein die an unserer Adventswanderung teilnehmen. \nUm 16.30 Uhr können wir gemeinsam den Rückweg nach Zavelstein antreten. \nAuf einen adventlichen Nachmittag freut sich Birgit Pfrommer. \nDie Teilnahme erfolgt auf eigene Gefahr. \nEuer Schwarzwaldverein Zavelstein
URL:https://www.swv-zavelstein.de/kalender/adventswanderung/
LOCATION:Parkplatz am Sportheim Zavelstein
END:VEVENT
END:VCALENDAR