BEGIN:VCALENDAR
VERSION:2.0
PRODID:-// - ECPv6.15.20//NONSGML v1.0//EN
CALSCALE:GREGORIAN
METHOD:PUBLISH
X-ORIGINAL-URL:https://www.swv-zavelstein.de
X-WR-CALDESC:Veranstaltungen für 
REFRESH-INTERVAL;VALUE=DURATION:PT1H
X-Robots-Tag:noindex
X-PUBLISHED-TTL:PT1H
BEGIN:VTIMEZONE
TZID:Europe/Berlin
BEGIN:DAYLIGHT
TZOFFSETFROM:+0100
TZOFFSETTO:+0200
TZNAME:CEST
DTSTART:20250330T010000
END:DAYLIGHT
BEGIN:STANDARD
TZOFFSETFROM:+0200
TZOFFSETTO:+0100
TZNAME:CET
DTSTART:20251026T010000
END:STANDARD
BEGIN:DAYLIGHT
TZOFFSETFROM:+0100
TZOFFSETTO:+0200
TZNAME:CEST
DTSTART:20260329T010000
END:DAYLIGHT
BEGIN:STANDARD
TZOFFSETFROM:+0200
TZOFFSETTO:+0100
TZNAME:CET
DTSTART:20261025T010000
END:STANDARD
BEGIN:DAYLIGHT
TZOFFSETFROM:+0100
TZOFFSETTO:+0200
TZNAME:CEST
DTSTART:20270328T010000
END:DAYLIGHT
BEGIN:STANDARD
TZOFFSETFROM:+0200
TZOFFSETTO:+0100
TZNAME:CET
DTSTART:20271031T010000
END:STANDARD
END:VTIMEZONE
BEGIN:VEVENT
DTSTART;TZID=Europe/Berlin:20260207T160000
DTEND;TZID=Europe/Berlin:20260207T190000
DTSTAMP:20260421T135923
CREATED:20260112T211038Z
LAST-MODIFIED:20260117T190700Z
UID:3324-1770480000-1770490800@www.swv-zavelstein.de
SUMMARY:Familie: Winterwanderung & Kartoffelfeuer in der Burg
DESCRIPTION:Das Team Familie des Schwarzwaldvereins Zavelstein lädt herzlich zu einer kurzen Winterwanderung rund um Zavelstein ein. \nAm Samstag\, den 7. Februar 2026 treffen wir uns um 16 Uhr auf dem Marktplatz. \nGemeinsam machen wir uns auf den Weg zu einer gemütlichen Winterrunde mit schönen Aussichten rund um Zavelstein. Der Weg ist bewusst kurz gehalten und eignet sich für alle\, die gerne in geselliger Runde draußen unterwegs sind. Den stimmungsvollen Abschluss verbringen wir in der Burg Zavelstein. \nDort erwartet die Teilnehmenden eine Feuerschale\, an der Kartoffeln gegart werden\, außerdem können Würstchen an zuvor gesammelten Stöcken am Feuer gegrillt und im Brötchen verzerrt werden. Neben dem Feuer sorgen Glühwein und Punsch für etwas innere Wärme – ideal\, um den Winterabend gemeinsam ausklingen zu lassen. \nAlle sind herzlich eingeladen\, egal ob Familien\, Einzelpersonen oder Gäste. Die Teilnahme erfolgt auf eigene Verantwortung. \nEs freut sich auf viele Teilnehmer\ndas Team Familie des Schwarzwaldvereins Zavelstein.
URL:https://www.swv-zavelstein.de/kalender/winterwanderung-kartoffelfeuer-in-der-burg/
LOCATION:Marktplatz Zavelstein
END:VEVENT
BEGIN:VEVENT
DTSTART;TZID=Europe/Berlin:20260218T113000
DTEND;TZID=Europe/Berlin:20260218T160000
DTSTAMP:20260421T135923
CREATED:20260206T093407Z
LAST-MODIFIED:20260206T093407Z
UID:3363-1771414200-1771430400@www.swv-zavelstein.de
SUMMARY:Seniorenwanderung
DESCRIPTION:Liebe Schwarzwaldverein-Senioren\, \nam Mittwoch\, den 18.02.2026 treffen wir uns um 11.30 Uhr am Parkplatz beim Sportplatz zur Bildung von Fahrgemeinschaften. \nUm 12.00 Uhr sind wir zum Mittagessen im Löwen in Hirsau angemeldet. \nAnschließend ist um 14.00 Uhr Kegeln im Löwen in Hirsau angesagt – bitte Turnschuhe mitbringen. \nWer nicht kegeln will\, kann sich zu einem Spaziergang mit Birgit anschließen. \nGäste sind immer herzlich willkommen. \nDie Teilnahme erfolgt auf eigene Gefahr. \nWir freuen uns über viele Teilnehmer und Gäste. \nEuer Schwarzwaldverein Team
URL:https://www.swv-zavelstein.de/kalender/seniorenwanderung-5/
LOCATION:Parkplatz am Sportplatz Zavelstein\, Fronwaldstraße\, Zavelstein
END:VEVENT
BEGIN:VEVENT
DTSTART;TZID=Europe/Berlin:20260221T130000
DTEND;TZID=Europe/Berlin:20260221T153000
DTSTAMP:20260421T135923
CREATED:20260201T191528Z
LAST-MODIFIED:20260212T191722Z
UID:3350-1771678800-1771687800@www.swv-zavelstein.de
SUMMARY:Wetterbedingte Terminverschiebung: Baumschnittkurs des SWV-Zavelstein
DESCRIPTION:Einladung zum Baumschnittkurs \nBruno Ott nimmt\, mit Unterstützung durch weitere Mitglieder des SWV Zavelstein\, an den im Jahr 2014 gepflanzten Hochstamm-Obstbäumen den jährlich notwendigen Baumschnitt vor und erklärt den Teilnehmern\, worauf es beim Schneiden ankommt. \nSoweit vorhanden\, bitte Gartenschere mitbringen. \nInteressierte Gäste sind herzlich willkommen. \nTreffpunkt: 13.00 Uhr bei der Obstanlage am Spinnerin-Kreuz-Weg.\nDauer: ca. 2\,5 Stunden\nOrganisation: Bruno Ott \nTeilnahme erfolgt auf eigene Gefahr.\nBei starkem Regen oder Schneefall fällt die Veranstaltung aus und wird auf einen späteren Termin verschoben. \nEuer Schwarzwaldverein Zavelstein
URL:https://www.swv-zavelstein.de/kalender/baumschnittkurs-des-swv-zavelstein/
LOCATION:Obstanlage am Spinnerin-Kreuz-Weg
END:VEVENT
BEGIN:VEVENT
DTSTART;TZID=Europe/Berlin:20260222T103000
DTEND;TZID=Europe/Berlin:20260222T170000
DTSTAMP:20260421T135923
CREATED:20260102T143833Z
LAST-MODIFIED:20260129T145540Z
UID:3236-1771756200-1771779600@www.swv-zavelstein.de
SUMMARY:Wanderung zum Gerberei Museum in Calw
DESCRIPTION:Für die Wanderung nach Calw starten wir am Feuersee und laufen auf dem Ostweg\, zum Teil identisch mit dem Wasser-Wald-Wiesenpfad\, hinunter zum Zavelsteiner Brückle\, linksseitig ein Stück den Pfad hinauf\, bis die Zavelsteiner Straße überquert wird und rechts ein breiter Forstweg in den Wald hineinführt. Der Beschilderung von Ostweg und Wasser-Wald-Wiesenpfad folgend erreichen wir relativ eben das Wildschweingehege und das Schafott\, welches 1800 errichtet wurde. Teilweise steil abwärts führt der Weg zum Gimpelstein (Aussichtspunkt) und über den oberen Stadtgarten hinunter durch den neu gestalteten Teil des Stadtgartens unterhalb der Schillerstraße. Die Wege\, auch als Hermann-Hesse-Weg bezeichnet\, sind mit Texttafeln von Hermann Hesse versehen. In der Stadt angekommen\, ist das Ziel der ehemaligen Weißgerberei Balz von 1800 schnell erreicht. \nIm Gerberei Museum werden die Wanderer um 13.00 Uhr zu einer Führung von ca. 1\,5 Std. erwartet\, in denen etwas über die Situation der Gerber in Calw berichtet wird. Ebenso erfahren wir Wichtiges und Interessantes zu den Arbeitsabläufen\, der Trockenverarbeitung\, der Bedeutung von Leder in früheren Zeiten etc. Die Führung geht über mehrere Etagen des Gebäudes und ist NICHT barrierefrei. \nDie Kosten der Führung übernimmt der SWV und ist für Vereinsmitglieder frei! Gäste bezahlen einen Kostenbeitrag. Nach der Führung kann man sich in der Cafeteria im Haus bei Kaffee und Kuchen stärken (Selbstzahler). \nOrganisation: Bruno und Martina Ott\nAnmeldungen bis 12.02.2026 wegen begrenzter Teilnehmerzahl unbedingt erbeten bei Fam. Ott: Tel: 07053 2180 oder über wanderwart@swv-zavelstein.de\nWanderstrecke: ca. 6\,5 km\, Aufstiege: ca. 75 m\, Abstiege: ca. 340 m\nTreffpunkt: 10.30 Uhr am Parkplatz Feuersee in Zavelstein\nRückfahrt mit dem Rufbus:  16.38 Uhr ab ZOB\nFeste Wanderstiefel\, Wanderstöcke und ein Getränk sind notwendig!  \nBei widrigen Witterungs- oder Wegeverhältnissen oder Forstarbeiten wird die Wanderstrecke verlegt oder entfällt und es wird mit Bus/ Auto gefahren. \nDie Änderung werden hier kurzfristig mitgeteilt. \nTeilnahme erfolgt auf eigene Gefahr. \nEuer Schwarzwaldverein Zavelstein
URL:https://www.swv-zavelstein.de/kalender/wanderung-zum-gerberei-museum-in-calw/
LOCATION:Zavelstein – Feuersee\, Feuersee\, Bad Teinach-Zavelstein\, 75385
END:VEVENT
BEGIN:VEVENT
DTSTART;TZID=Europe/Berlin:20260228T183000
DTEND;TZID=Europe/Berlin:20260228T213000
DTSTAMP:20260421T135923
CREATED:20260102T144127Z
LAST-MODIFIED:20260130T191150Z
UID:3239-1772303400-1772314200@www.swv-zavelstein.de
SUMMARY:Hauptversammlung im Sportheim Zavelstein
DESCRIPTION:Top 1    Begrüßung und Bericht des 1. Vorsitzenden  Joachim Stocker\nGedenken der Verstorbenen: Günther John\, Gerda Zündel\, Emilie Straßer\, Werner Schönhardt\nTop 2    Änderung/Anpassung der Satzung\n\nGemeinsames Abendessen \n\nTop 3    Kassenbericht des Rechners Alfred Schäfer\nTop 4    Bericht der Kassenprüfer mit anschließender Entlastung der Rechner durch die Rechnungsprüfer Michael Pfrommer und Waldemar Heckele\nTop 5    Bericht des Fachwarts für Öffentlichkeitsarbeit und Schriftführung Peter Krieg (kann an der HV entschuldigt nicht teilnehmen)\nTop 6    Bericht des Wegewarts Georg Nonnenmann und Peter Bilski\nTop 7    Bericht der Wanderwarte Martina Ott und Marlene Seeger. Diaschau Rückblick 2025 und Vorausblick 2026\nTop 8    Bericht des Fachwarts für Heimatpflege Wolfgang Krieg\nTop 9    Bericht des Fachwarts für Naturschutz Gerald Langer\nTop 10  Bericht der Seniorenbetreuung Birgit Pfrommer\, Adelheid Beck\, Waltraud Luz und  Ursula Schönhardt\nTop 11  Entlastung der Vorstandschaft durch Herrn BM Wendel\nTop 12  Wahlen\nTop 13  Auszeichnungen und Ehrungen\nTop 14  Verschiedenes und Aussprache\n\n 
URL:https://www.swv-zavelstein.de/kalender/hauptversammlung-im-sportheim-zavelstein-2/
LOCATION:Sportheim der Spvvg Zavelstein\, Speßhardter Str. 27\, 75385 Bad Teinach-Zavelstein
ORGANIZER;CN="SWV-Zavelstein Vorstand":MAILTO:vorstand@swv-zavelstein.de
END:VEVENT
END:VCALENDAR