BEGIN:VCALENDAR
VERSION:2.0
PRODID:-// - ECPv6.15.20//NONSGML v1.0//EN
CALSCALE:GREGORIAN
METHOD:PUBLISH
X-ORIGINAL-URL:https://www.swv-zavelstein.de
X-WR-CALDESC:Veranstaltungen für 
REFRESH-INTERVAL;VALUE=DURATION:PT1H
X-Robots-Tag:noindex
X-PUBLISHED-TTL:PT1H
BEGIN:VTIMEZONE
TZID:Europe/Berlin
BEGIN:DAYLIGHT
TZOFFSETFROM:+0100
TZOFFSETTO:+0200
TZNAME:CEST
DTSTART:20250330T010000
END:DAYLIGHT
BEGIN:STANDARD
TZOFFSETFROM:+0200
TZOFFSETTO:+0100
TZNAME:CET
DTSTART:20251026T010000
END:STANDARD
BEGIN:DAYLIGHT
TZOFFSETFROM:+0100
TZOFFSETTO:+0200
TZNAME:CEST
DTSTART:20260329T010000
END:DAYLIGHT
BEGIN:STANDARD
TZOFFSETFROM:+0200
TZOFFSETTO:+0100
TZNAME:CET
DTSTART:20261025T010000
END:STANDARD
BEGIN:DAYLIGHT
TZOFFSETFROM:+0100
TZOFFSETTO:+0200
TZNAME:CEST
DTSTART:20270328T010000
END:DAYLIGHT
BEGIN:STANDARD
TZOFFSETFROM:+0200
TZOFFSETTO:+0100
TZNAME:CET
DTSTART:20271031T010000
END:STANDARD
END:VTIMEZONE
BEGIN:VEVENT
DTSTART;TZID=Europe/Berlin:20260307T130000
DTEND;TZID=Europe/Berlin:20260307T170000
DTSTAMP:20260421T122434
CREATED:20260225T145018Z
LAST-MODIFIED:20260225T145018Z
UID:3379-1772888400-1772902800@www.swv-zavelstein.de
SUMMARY:Gemeinsame Frühjahrsarbeiten in der Burg
DESCRIPTION:Am Samstag\, 07.03.2026\, laden wir alle Vereinsmitglieder herzlich ein\, \nab 13.00 Uhr bei unseren Frühjahrsarbeiten in der Burg tatkräftig mitzuhelfen und diese für das Frühjahr herzurichten. Für die anstehenden Arbeiten werden  Männer / Frauen benötigt\, die entsprechend mit anpacken können: \n\nBurghof mit Schotter auffüllen\nundichte fugen am Turm abdichten\nHolzgeländer kontrollieren und ggf. ausbessern\nTische und Bänke ausbessern und aufstellen\nLampen im Turmaufgang auswechseln und putzen\ndie Lichterketten kontrollieren und wenn nötig Birnen erneuern\nverschiedene Kleinarbeiten\n\nDer „Gotsacker“ und die Schmiede  benötigen zudem eine Reinigung\, was wir bei genügender Teilnehmerzahl ebenso mit Schwung angehen wollen (Putzeimer\, Putzmittel und alte Handtücher mitbringen). \nWer es möglich machen kann\, ist herzlich eingeladen mitzuhelfen! \nBei ganz schlechten Wetterverhältnissen werden die Arbeiten auf einen anderen Termin verlegt. \nEs grüßt euch ganz herzlich\neuer Bruno Ott
URL:https://www.swv-zavelstein.de/kalender/gemeinsame-fruehjahrsarbeiten-in-der-burg-2/
LOCATION:Burgruine Zavelstein
END:VEVENT
BEGIN:VEVENT
DTSTART;TZID=Europe/Berlin:20260308T093000
DTEND;TZID=Europe/Berlin:20260308T150000
DTSTAMP:20260421T122434
CREATED:20260102T144229Z
LAST-MODIFIED:20260217T184826Z
UID:3241-1772962200-1772982000@www.swv-zavelstein.de
SUMMARY:Kurortgeschichtliche Rundwanderung Schömberg
DESCRIPTION:Herr Eschwey vom Heimat-und Geschichtsverein Schömberg führt die Gruppe zu den Plätzen der ehemaligen Sanatorien und Kliniken\, die bereits vor 135 Jahren zur Behandlung von Tuberkulose-Kranken entstanden sind. Etliche Kliniken bestehen heute noch mit anderen Fachbereichen\, wobei die gute Schwarzwaldluft zur Genesung dazugehört. Auf dem kurzweiligen Rundgang erfahren die Teilnehmer so manches Detail aus der vergangenen Zeit\, humorvoll und anekdotenreich erzählt von Herrn Eschwey\, der auch den bäuerlichen Ursprung des Waldhufendorfes Schömberg mit einbezieht. \nDer Rundgang endet mit dem Besuch im Museum „Haus Bühler“\, das auf 2 Etagen zum einen dem einstigen Kurbetrieb mit Original Gegenständen\, Instrumenten und Möbeln aus der Zeit der Tuberkulosebehandlung gewidmet ist. In der 2. Etage wird sehr anschaulich  an das Leben und die Entwicklung im Waldhufendorf erinnert. \nDie Führung wird vom Heimat- und Geschichtsverein Schömberg kostenlos angeboten – um eine Spende wird gebeten. \nOrganisation: Bruno und Martina Ott \nEine Einkehr ist vorgesehen\, daher ist eine Anmeldung zur besseren Planung bei Fam. Ott erwünscht. (Tel: 07053 2180) oder per Mail an wanderwart@swv-zavelstein.de \nAbfahrt: 09.30 Uhr am Sportplatz Parkplatz in Zavelstein ( Fronwaldstraße) \nBeginn der Führung in Schömberg: 10.00 Uhr beim Rathaus \nDauer: Führung mit Museum ca. 2 Stunden \nRückkehr: ca. 15 Uhr \nTeilnahme erfolgt auf eigene Gefahr. \nGäste herzlich willkommen! \nAuf zahlreiche Beteiligung freut sich euer Schwarzwaldverein
URL:https://www.swv-zavelstein.de/kalender/kurortgeschichtliche-rundwanderung-schoemberg/
LOCATION:Parkplatz am Sportplatz Zavelstein\, Fronwaldstraße\, Zavelstein
END:VEVENT
BEGIN:VEVENT
DTSTART;TZID=Europe/Berlin:20260318T133000
DTEND;TZID=Europe/Berlin:20260318T170000
DTSTAMP:20260421T122434
CREATED:20260305T214344Z
LAST-MODIFIED:20260305T214503Z
UID:3385-1773840600-1773853200@www.swv-zavelstein.de
SUMMARY:Seniorenwanderung
DESCRIPTION:Liebe Schwarzwaldverein-Senioren\, \nUnsere nächste Wanderung führt uns am 18.03.2026 auf`s Hörnle und den Geisberg. Diese liegen zwischen Simmozheim und Möttlingen. Bei schönem Frühjahrs Wetter werden uns die ersten Frühblüher in der Heckenlandschaft erfreuen. Auch gibt es\, weite Ausblicke in die  Landschaft und die umliegenden Orte. \nWanderstöcke werden empfohlen. \nEine Schlusseinkehr ist vorgesehen. \nAbfahrt:  13.30 Uhr beim Sportplatz Zavelstein \nWanderstrecke: ca. 5 km \nGäste sind zu dieser Veranstaltung herzlich willkommen. \nDie Teilnahme erfolgt auf eigene Gefahr. \nWir freuen uns Euer Schwarzwaldverein Team \nAdelheid\, Birgit und Waltraud
URL:https://www.swv-zavelstein.de/kalender/3385/
LOCATION:Parkplatz am Sportplatz Zavelstein\, Fronwaldstraße\, Zavelstein
END:VEVENT
BEGIN:VEVENT
DTSTART;TZID=Europe/Berlin:20260321T090000
DTEND;TZID=Europe/Berlin:20260321T120000
DTSTAMP:20260421T122434
CREATED:20260102T144430Z
LAST-MODIFIED:20260307T130119Z
UID:3243-1774083600-1774094400@www.swv-zavelstein.de
SUMMARY:Ostergirlanden binden/ Osterbrunnen dekorieren
DESCRIPTION:Herzliche Einladung an Mitglieder und Familien vom Schwarzwaldverein Zavelstein\, sich an der Aktion zu beteiligen\, die Brunnen im Burghof und vor dem alten Rathaus mit einer österlichen Girlande zu schmücken. Die Aktion ist in den beiden letzten Jahren sehr gut angenommen worden und hat mächtig Eindruck gemacht\, daher sollen auch dieses Jahr die Brunnen zur Osterzeit geschmückt werden. \nDie Erwachsenen sollten unter der Anleitung von Bruno beim Binden der Girlanden aus Tannenzweigen tatkräftig mit anpacken. Da es etliche Meter sind\, werden viele helfende Hände gebraucht. \nWer also beim Binden helfen kann und möchte\, bitte melden (Tel: 2180). \nTannenzweige und Bindedraht werden dafür organisiert. \nFür die Kinder wird es ab 10.00 Uhr Bastelmöglichkeiten im Lesesaal geben und Spiele in der Burg. Und natürlich dürfen alle helfen\, die vorhandenen bunten Eierketten an der fertigen Girlande auf den Brunnen zu befestigen. \nBitte mitbringen: Handschuhe und kleine Gartenschere (wenn möglich) sowie ein Getränk. Kaffee und Gebäck werden bereitgestellt. \nOrganisation: Bruno + Martina Ott\, + Team Familie + Jutta Sorg \nTreffpunkt:  09.00 Uhr im Burghof zum Girlanden binden \nEnde: ca. 12.00 Uhr \nUm vorherige Anmeldung für eine bessere Planung der Bastelangebote bis 18.03.2025 wird gebeten unter: wanderwart@swv-zavelstein.de \nSchwarzwaldverein Zavelstein
URL:https://www.swv-zavelstein.de/kalender/ostergirlanden-binden-osterbrunnen-dekorieren/
LOCATION:Burgruine Zavelstein
END:VEVENT
BEGIN:VEVENT
DTSTART;TZID=Europe/Berlin:20260329T092000
DTEND;TZID=Europe/Berlin:20260329T173000
DTSTAMP:20260421T122434
CREATED:20260102T144553Z
LAST-MODIFIED:20260312T091020Z
UID:3246-1774776000-1774805400@www.swv-zavelstein.de
SUMMARY:Frühling in Stuttgart: Vom Killesberg – Rosensteinpark zum Schlossgarten und altem Schloss
DESCRIPTION:Liebe Mitglieder und Freunde vom SWV Zavelstein\, \ngemeinsam wollen wir den Frühling in Stuttgarts Parkanlagen erleben\, welche eine grüne Oase in der Landeshauptstadt darstellen. \nNachdem wir mit der HHB\, S- und U-Bahn den Höhenpark am Killesberg erreicht haben\, spazieren wir durch den sicher in bunten Farben leuchtenden Park\, am Egelsee vorbei\, und erreichen über eine Seilnetzbrücke den Leibfriedschen Garten\, wo die Villa Moser stand\, die 1944 völlig zerstört wurde. \nWeiter geht der Weg zum Rosensteinpark\, dem größten englischen Landschaftspark in Südwestdeutschland\, bestimmt auch eine Augenweide. Danach geht’s weiter zum Schloss Rosenstein und durch die Schlossgartenanlagen bis zum Schlossplatz. \nMit viel geschichtlichem Hintergrundwissen führt Frau Geisbauer durch die gesamten Anlagen und vermittelt uns die Historie von diesem Teil Stuttgarts\, angereichert mit vielen Anekdoten und Begebenheiten\, sodass es ein kurzweiliger Ausflug werden wird. \nDie Abschlusseinkehr wird in der Nähe vom Schlossplatz stattfinden. \nGehzeit mit Pausen: ca. 3 Stunden  – kaum Anstiege \nOrganisation: Bruno und Martina Ott\nFührung in Stgt: Ch. Geisbauer \nAbfahrt: 09.20 Uhr am Sportplatz/ Parkplatz zur Bildung von Fahrgemeinschaften nach Calw\nBitte Zeitumstellung beachten. \nAbfahrt HHB: 10.04 am ZOB Calw Umstieg in WdSt. auf S 6 nach Stuttgart\nAnkunft Stgt Hbf: 11.12 Uhr\nDie Uhrzeit der Rückkehr wird noch bekannt gegeben. \nMitbringen: kleines Vesper\, Getränk\n\nFahrtkosten: Gruppenticket werden auf die Teilnehmer umgelegt.\nFührung für Mitglieder kostenfrei\, für Gäste € 3\,00\n\nAnmeldung: bis 24.03.2026 bei Fam. Ott unter: wanderwart@swv-zavelstein.de \nGäste sind herzlich willkommen\nTeilnahme erfolgt auf eigene Gefahr \nSchwarzwaldverein Zavelstein
URL:https://www.swv-zavelstein.de/kalender/fruehling-in-stuttgart-vom-killesberg-rosensteinpark-zum-schlossgarten-und-altem-schloss/
LOCATION:Parkplatz am Sportheim Zavelstein
CATEGORIES:Anmeldung erforderlich
END:VEVENT
END:VCALENDAR