BEGIN:VCALENDAR
VERSION:2.0
PRODID:-// - ECPv6.15.20//NONSGML v1.0//EN
CALSCALE:GREGORIAN
METHOD:PUBLISH
X-ORIGINAL-URL:https://www.swv-zavelstein.de
X-WR-CALDESC:Veranstaltungen für 
REFRESH-INTERVAL;VALUE=DURATION:PT1H
X-Robots-Tag:noindex
X-PUBLISHED-TTL:PT1H
BEGIN:VTIMEZONE
TZID:Europe/Berlin
BEGIN:DAYLIGHT
TZOFFSETFROM:+0100
TZOFFSETTO:+0200
TZNAME:CEST
DTSTART:20250330T010000
END:DAYLIGHT
BEGIN:STANDARD
TZOFFSETFROM:+0200
TZOFFSETTO:+0100
TZNAME:CET
DTSTART:20251026T010000
END:STANDARD
BEGIN:DAYLIGHT
TZOFFSETFROM:+0100
TZOFFSETTO:+0200
TZNAME:CEST
DTSTART:20260329T010000
END:DAYLIGHT
BEGIN:STANDARD
TZOFFSETFROM:+0200
TZOFFSETTO:+0100
TZNAME:CET
DTSTART:20261025T010000
END:STANDARD
BEGIN:DAYLIGHT
TZOFFSETFROM:+0100
TZOFFSETTO:+0200
TZNAME:CEST
DTSTART:20270328T010000
END:DAYLIGHT
BEGIN:STANDARD
TZOFFSETFROM:+0200
TZOFFSETTO:+0100
TZNAME:CET
DTSTART:20271031T010000
END:STANDARD
END:VTIMEZONE
BEGIN:VEVENT
DTSTART;TZID=Europe/Berlin:20260502T053000
DTEND;TZID=Europe/Berlin:20260502T090000
DTSTAMP:20260421T122901
CREATED:20260111T111902Z
LAST-MODIFIED:20260419T080802Z
UID:3257-1777699800-1777712400@www.swv-zavelstein.de
SUMMARY:Vogelkundliche Frühwanderung
DESCRIPTION:Der SWV Zavelstein lädt alle naturbegeisterten Frühaufsteher zu einer vogelkundlichen Wanderung mit Hans Weinmann rund um Zavelstein am Samstag\, 02.05.2026\, ein.\nWir starten unseren rd. 2 stündigen Rundgang um 05.30 Uhr auf dem Waldparkplatz am Wanderheim Zavelstein. Wer ein Fernglas hat kann es zur Vogelbeobachtung mitbringen. \nIm Anschluss treffen wir uns zu einem gemütlichen Frühstück im Städtle. Dazu freut sich der Schwarzwaldverein über eine kleine freiwillige Geldspende der Teilnehmenden zur Unterstützung unserer Vereinsarbeit.  \nUm eine Anmeldung per E-mail an naturschutz@swv-zavelstein.de wird bis spätestens 28.04.2026 gebeten. \nGäste sind wie immer herzlich willkommen. \nDie Teilnahme an der Wanderung erfolgt auf eigene Gefahr. \nEuer Schwarzwaldverein Zavelstein
URL:https://www.swv-zavelstein.de/kalender/vogelkundliche-fruehwanderung/
LOCATION:Parkplatz Wanderheim Zavelstein
END:VEVENT
BEGIN:VEVENT
DTSTART;VALUE=DATE:20260508
DTEND;VALUE=DATE:20260509
DTSTAMP:20260421T122901
CREATED:20260111T111959Z
LAST-MODIFIED:20260111T111959Z
UID:3260-1778198400-1778284799@www.swv-zavelstein.de
SUMMARY:After-Work-Wandern
DESCRIPTION:Nähere Informationen werden hier veröffentlicht\, sobald der Organisator der Veranstaltung diese bekannt gibt.
URL:https://www.swv-zavelstein.de/kalender/after-work-wandern-4/
END:VEVENT
BEGIN:VEVENT
DTSTART;VALUE=DATE:20260517
DTEND;VALUE=DATE:20260518
DTSTAMP:20260421T122901
CREATED:20260111T112116Z
LAST-MODIFIED:20260111T112116Z
UID:3263-1778976000-1779062399@www.swv-zavelstein.de
SUMMARY:Auf dem Geroldsecker Qualitätsweg - (Busfahrt) in Kooperation mit den SWV Calw & Neubulach
DESCRIPTION:Nähere Informationen werden hier veröffentlicht\, sobald der Organisator der Veranstaltung diese bekannt gibt.
URL:https://www.swv-zavelstein.de/kalender/auf-dem-geroldsecker-qualitaetsweg-busfahrt-in-kooperation-mit-den-swv-calw-neubulach/
END:VEVENT
BEGIN:VEVENT
DTSTART;VALUE=DATE:20260531
DTEND;VALUE=DATE:20260601
DTSTAMP:20260421T122901
CREATED:20260111T112217Z
LAST-MODIFIED:20260111T112228Z
UID:3266-1780185600-1780271999@www.swv-zavelstein.de
SUMMARY:Wanderung auf Mörikes Spuren mit dem Zeller-Mörike-Garten
DESCRIPTION:Nähere Informationen werden hier veröffentlicht\, sobald der Organisator der Veranstaltung diese bekannt gibt.
URL:https://www.swv-zavelstein.de/kalender/wanderung-auf-moerikes-spuren-mit-dem-zeller-moerike-garten/
END:VEVENT
END:VCALENDAR