BEGIN:VCALENDAR
VERSION:2.0
PRODID:-// - ECPv6.15.20//NONSGML v1.0//EN
CALSCALE:GREGORIAN
METHOD:PUBLISH
X-ORIGINAL-URL:https://www.swv-zavelstein.de
X-WR-CALDESC:Veranstaltungen für 
REFRESH-INTERVAL;VALUE=DURATION:PT1H
X-Robots-Tag:noindex
X-PUBLISHED-TTL:PT1H
BEGIN:VTIMEZONE
TZID:Europe/Berlin
BEGIN:DAYLIGHT
TZOFFSETFROM:+0100
TZOFFSETTO:+0200
TZNAME:CEST
DTSTART:20250330T010000
END:DAYLIGHT
BEGIN:STANDARD
TZOFFSETFROM:+0200
TZOFFSETTO:+0100
TZNAME:CET
DTSTART:20251026T010000
END:STANDARD
BEGIN:DAYLIGHT
TZOFFSETFROM:+0100
TZOFFSETTO:+0200
TZNAME:CEST
DTSTART:20260329T010000
END:DAYLIGHT
BEGIN:STANDARD
TZOFFSETFROM:+0200
TZOFFSETTO:+0100
TZNAME:CET
DTSTART:20261025T010000
END:STANDARD
BEGIN:DAYLIGHT
TZOFFSETFROM:+0100
TZOFFSETTO:+0200
TZNAME:CEST
DTSTART:20270328T010000
END:DAYLIGHT
BEGIN:STANDARD
TZOFFSETFROM:+0200
TZOFFSETTO:+0100
TZNAME:CET
DTSTART:20271031T010000
END:STANDARD
END:VTIMEZONE
BEGIN:VEVENT
DTSTART;VALUE=DATE:20260807
DTEND;VALUE=DATE:20260808
DTSTAMP:20260421T164045
CREATED:20260111T113339Z
LAST-MODIFIED:20260111T113339Z
UID:3289-1786060800-1786147199@www.swv-zavelstein.de
SUMMARY:After-Work-Radtour
DESCRIPTION:Nähere Informationen werden hier veröffentlicht\, sobald der Organisator der Veranstaltung diese bekannt gibt.
URL:https://www.swv-zavelstein.de/kalender/after-work-radtour-2/
END:VEVENT
BEGIN:VEVENT
DTSTART;VALUE=DATE:20260809
DTEND;VALUE=DATE:20260810
DTSTAMP:20260421T164045
CREATED:20260111T113432Z
LAST-MODIFIED:20260111T113432Z
UID:3291-1786233600-1786319999@www.swv-zavelstein.de
SUMMARY:Wanderung von Dachtel zu den Röserhütten
DESCRIPTION:Nähere Informationen werden hier veröffentlicht\, sobald der Organisator der Veranstaltung diese bekannt gibt.
URL:https://www.swv-zavelstein.de/kalender/wanderung-von-dachtel-zu-den-roeserhuetten/
END:VEVENT
END:VCALENDAR