BEGIN:VCALENDAR
VERSION:2.0
PRODID:-// - ECPv6.15.20//NONSGML v1.0//EN
CALSCALE:GREGORIAN
METHOD:PUBLISH
X-ORIGINAL-URL:https://www.swv-zavelstein.de
X-WR-CALDESC:Veranstaltungen für 
REFRESH-INTERVAL;VALUE=DURATION:PT1H
X-Robots-Tag:noindex
X-PUBLISHED-TTL:PT1H
BEGIN:VTIMEZONE
TZID:Europe/Berlin
BEGIN:DAYLIGHT
TZOFFSETFROM:+0100
TZOFFSETTO:+0200
TZNAME:CEST
DTSTART:20250330T010000
END:DAYLIGHT
BEGIN:STANDARD
TZOFFSETFROM:+0200
TZOFFSETTO:+0100
TZNAME:CET
DTSTART:20251026T010000
END:STANDARD
BEGIN:DAYLIGHT
TZOFFSETFROM:+0100
TZOFFSETTO:+0200
TZNAME:CEST
DTSTART:20260329T010000
END:DAYLIGHT
BEGIN:STANDARD
TZOFFSETFROM:+0200
TZOFFSETTO:+0100
TZNAME:CET
DTSTART:20261025T010000
END:STANDARD
BEGIN:DAYLIGHT
TZOFFSETFROM:+0100
TZOFFSETTO:+0200
TZNAME:CEST
DTSTART:20270328T010000
END:DAYLIGHT
BEGIN:STANDARD
TZOFFSETFROM:+0200
TZOFFSETTO:+0100
TZNAME:CET
DTSTART:20271031T010000
END:STANDARD
END:VTIMEZONE
BEGIN:VEVENT
DTSTART;VALUE=DATE:20260918
DTEND;VALUE=DATE:20260919
DTSTAMP:20260421T180709
CREATED:20260111T113546Z
LAST-MODIFIED:20260111T113546Z
UID:3293-1789689600-1789775999@www.swv-zavelstein.de
SUMMARY:After-Work-Wandern
DESCRIPTION:Nähere Informationen werden hier veröffentlicht\, sobald der Organisator der Veranstaltung diese bekannt gibt.
URL:https://www.swv-zavelstein.de/kalender/after-work-wandern-6/
END:VEVENT
BEGIN:VEVENT
DTSTART;VALUE=DATE:20260919
DTEND;VALUE=DATE:20260920
DTSTAMP:20260421T180709
CREATED:20260111T113631Z
LAST-MODIFIED:20260111T113643Z
UID:3295-1789776000-1789862399@www.swv-zavelstein.de
SUMMARY:Frauenausflug
DESCRIPTION:Nähere Informationen werden hier veröffentlicht\, sobald der Organisator der Veranstaltung diese bekannt gibt.
URL:https://www.swv-zavelstein.de/kalender/frauenausflug/
END:VEVENT
BEGIN:VEVENT
DTSTART;VALUE=DATE:20260926
DTEND;VALUE=DATE:20260927
DTSTAMP:20260421T180709
CREATED:20260111T113806Z
LAST-MODIFIED:20260112T211851Z
UID:3298-1790380800-1790467199@www.swv-zavelstein.de
SUMMARY:Familie: Obst ernten und Saft pressen
DESCRIPTION:Nähere Informationen werden hier veröffentlicht\, sobald der Organisator der Veranstaltung diese bekannt gibt.
URL:https://www.swv-zavelstein.de/kalender/obst-ernten-und-saft-pressen-2/
END:VEVENT
END:VCALENDAR